BEGIN:VCALENDAR
VERSION:2.0
PRODID:-//wp-events-plugin.com//7.2.2.1//EN
TZID:America/New_York
X-WR-TIMEZONE:America/New_York
BEGIN:VEVENT
UID:2@bcqg.org
DTSTART;TZID=America/New_York:20230110T183000
DTEND;TZID=America/New_York:20230111T204500
DTSTAMP:20230206T170806Z
URL:https://bcqg.org/events/monthly-members-meeting-2023-01-10/
SUMMARY:Monthly Members' Meeting
DESCRIPTION:This program is a part of the regular Monthly Meeting of the Bu
 rlington Carousel Quilt Guild.  Members of the Guild who have paid annual
  dues do not need to register. Guests are welcome!! The first meeting is c
 omplimentary\, additional meetings are $5.00 unless you join as a regular 
 member.
CATEGORIES:Monthly Members' Meeting Programs
LOCATION:Northside Fellowship Church\, 513 Homewood Ave\, Burlington\, Nort
 h Carolina\, 27217\, United States
GEO:36.103424;-79.411001
X-APPLE-STRUCTURED-LOCATION;VALUE=URI;X-ADDRESS=513 Homewood Ave\, Burlingt
 on\, North Carolina\, 27217\, United States;X-APPLE-RADIUS=100;X-TITLE=Nor
 thside Fellowship Church:geo:36.103424,-79.411001
END:VEVENT
BEGIN:VTIMEZONE
TZID:America/New_York
X-LIC-LOCATION:America/New_York
BEGIN:STANDARD
DTSTART:20221106T010000
TZOFFSETFROM:-0400
TZOFFSETTO:-0500
TZNAME:EST
END:STANDARD
END:VTIMEZONE
END:VCALENDAR