BEGIN:VCALENDAR
VERSION:2.0
PRODID:-//wp-events-plugin.com//7.2.2.1//EN
TZID:America/New_York
X-WR-TIMEZONE:America/New_York
BEGIN:VEVENT
UID:4@bcqg.org
DTSTART;TZID=America/New_York:20230307T183000
DTEND;TZID=America/New_York:20230307T204500
DTSTAMP:20230213T141910Z
URL:https://bcqg.org/events/monthly-members-meeting-2023-03-14/
SUMMARY:Susan Brubaker Knapp in Conjunction with Art Feeds the Soul Quilt S
 how
DESCRIPTION:Susan Brubaker Knapp\, host of Quilting Arts TV\, and acclaimed
  artist joins us for a presentation prior to the Arts Feeds the Soul Quilt
  Show.  This is a joint meeting of Burlington Carousel Quilt Guild and Al
 amance Piecemakers Quilt Guild.
CATEGORIES:Monthly Members' Meeting Programs
LOCATION:Elon Community Church\, 271 N. Willamson Ave.\, Elon\, NC\, 27244\
 , United States
GEO:36.102477;-79.507427
X-APPLE-STRUCTURED-LOCATION;VALUE=URI;X-ADDRESS=271 N. Willamson Ave.\, Elo
 n\, NC\, 27244\, United States;X-APPLE-RADIUS=100;X-TITLE=Elon Community C
 hurch:geo:36.102477,-79.507427
END:VEVENT
BEGIN:VTIMEZONE
TZID:America/New_York
X-LIC-LOCATION:America/New_York
BEGIN:STANDARD
DTSTART:20221106T010000
TZOFFSETFROM:-0400
TZOFFSETTO:-0500
TZNAME:EST
END:STANDARD
END:VTIMEZONE
END:VCALENDAR