BEGIN:VCALENDAR
VERSION:2.0
PRODID:-//wp-events-plugin.com//7.2.2.1//EN
TZID:America/New_York
X-WR-TIMEZONE:America/New_York
BEGIN:VEVENT
UID:6@bcqg.org
DTSTART;TZID=America/New_York:20230509T183000
DTEND;TZID=America/New_York:20230509T204500
DTSTAMP:20230207T182110Z
URL:https://bcqg.org/events/monthly-members-meeting-2023-05-09/
SUMMARY:Color! by Charles Cameron
DESCRIPTION:Color! An Engineer's Guide to Color Value and Color Placement i
 n Your Quilts with Charles Cameron. Check out Charles' work on Instagram @
 FeltLikeSweets.\n\nThis program is a part of the regular Monthly Meeting o
 f the Burlington Carousel Quilt Guild.  Members of the Guild who have pai
 d annual dues do not need to register. Guests are welcome!! The first meet
 ing is complimentary\, additional meetings are $5.00 unless you join as a 
 regular member.
CATEGORIES:Monthly Members' Meeting Programs
LOCATION:Northside Fellowship Church\, 513 Homewood Ave\, Burlington\, Nort
 h Carolina\, 27217\, United States
GEO:36.103424;-79.411001
X-APPLE-STRUCTURED-LOCATION;VALUE=URI;X-ADDRESS=513 Homewood Ave\, Burlingt
 on\, North Carolina\, 27217\, United States;X-APPLE-RADIUS=100;X-TITLE=Nor
 thside Fellowship Church:geo:36.103424,-79.411001
END:VEVENT
BEGIN:VTIMEZONE
TZID:America/New_York
X-LIC-LOCATION:America/New_York
BEGIN:DAYLIGHT
DTSTART:20230312T030000
TZOFFSETFROM:-0500
TZOFFSETTO:-0400
TZNAME:EDT
END:DAYLIGHT
END:VTIMEZONE
END:VCALENDAR