BEGIN:VCALENDAR
VERSION:2.0
PRODID:-//wp-events-plugin.com//7.2.2.1//EN
TZID:America/New_York
X-WR-TIMEZONE:America/New_York
BEGIN:VEVENT
UID:88@bcqg.org
DTSTART;TZID=America/New_York:20240817T093000
DTEND;TZID=America/New_York:20240817T140000
DTSTAMP:20240424T122132Z
URL:https://bcqg.org/events/sew-day-washcloth-toiletry-wrap/
SUMMARY:Sew Day\, Washcloth Toiletry Wrap
DESCRIPTION:Join us for some lively conversation and sewing while we create
  toiletry wraps from washcloths for Samaritan's Purse Christmas Boxes.  W
 ashcloths and Ribbon will be provided or bring some with you along with y
 our machine and thread.
CATEGORIES:Sew Day
LOCATION:Northside Fellowship Church\, 513 Homewood Ave\, Burlington\, Nort
 h Carolina\, 27217\, United States
GEO:36.103424;-79.411001
X-APPLE-STRUCTURED-LOCATION;VALUE=URI;X-ADDRESS=513 Homewood Ave\, Burlingt
 on\, North Carolina\, 27217\, United States;X-APPLE-RADIUS=100;X-TITLE=Nor
 thside Fellowship Church:geo:36.103424,-79.411001
END:VEVENT
BEGIN:VTIMEZONE
TZID:America/New_York
X-LIC-LOCATION:America/New_York
BEGIN:DAYLIGHT
DTSTART:20240310T030000
TZOFFSETFROM:-0500
TZOFFSETTO:-0400
TZNAME:EDT
END:DAYLIGHT
END:VTIMEZONE
END:VCALENDAR