BEGIN:VCALENDAR
VERSION:2.0
PRODID:-//wp-events-plugin.com//7.2.2.1//EN
TZID:America/New_York
X-WR-TIMEZONE:America/New_York
BEGIN:VEVENT
UID:86@bcqg.org
DTSTART;TZID=America/New_York:20240404T083000
DTEND;TZID=America/New_York:20240404T130000
DTSTAMP:20240318T175624Z
URL:https://bcqg.org/events/uncle-elis-quilting-party/
SUMMARY:Uncle Eli's Quilting Party
DESCRIPTION:UNCLE ELI’S QUILTING PARTY\nOldest Quilting Event in the Coun
 try!!\n\nThursday\, April 4\, 2024\n8:30 am-1:00 pm Quilt Display\n12:45 p
 m potluck lunch\n\n❖ 1st Thursday in April since 1931 in Eli Whitney\;
 ❖ Dozens of quilts to see. Bring yours to show!\n❖ Add stitches to dem
 onstration quilt. Experts to show you how.\n❖ Sharing Table: Bring one/t
 ake one books\, magazines\, &amp\; fabric\n❖ Chance to win! Raffle quilt
  tickets for sale\n❖ FREE &amp\; Open to the public\n\nEli Whitney Commu
 nity Center (Old gym)\n4110 E. Greensboro-Chapel Hill Road\,\nGraham\, NC
CATEGORIES:Quilt Shows
END:VEVENT
BEGIN:VTIMEZONE
TZID:America/New_York
X-LIC-LOCATION:America/New_York
BEGIN:DAYLIGHT
DTSTART:20240310T030000
TZOFFSETFROM:-0500
TZOFFSETTO:-0400
TZNAME:EDT
END:DAYLIGHT
END:VTIMEZONE
END:VCALENDAR